BEGIN:VCALENDAR
VERSION:2.0
PRODID:-//Plone.org//NONSGML plone.app.event//EN
X-WR-TIMEZONE:Europe/Rome
BEGIN:VEVENT
SUMMARY:Qatar matchmaking event 2020
DTSTART;VALUE=DATE:20200707
DTEND;VALUE=DATE:20200708
DTSTAMP;VALUE=DATE-TIME:20260420T145447Z
UID:5b6cdc880dff43e0917734aa56c86bb9@imprese.regione.emilia-romagna.it
CONTACT:Enterprise Europe Network - Simpler\, 051 6377034\, simpler@rer.ca
 mcom.it
CREATED;VALUE=DATE-TIME:20200707T134325Z
DESCRIPTION:Incontri\, 7 luglio 2020
LAST-MODIFIED;VALUE=DATE-TIME:20200707T141458Z
URL:https://imprese.regione.emilia-romagna.it/eventi/2020/qatar-matchmakin
 g-event-2020
END:VEVENT
END:VCALENDAR
