BEGIN:VCALENDAR
VERSION:2.0
PRODID:-//Plone.org//NONSGML plone.app.event//EN
X-WR-TIMEZONE:Europe/Rome
BEGIN:VEVENT
SUMMARY:Misure e incentivi per la valorizzazione di brevetti\, marchi e di
 segni
DTSTART;TZID=Europe/Rome;VALUE=DATE-TIME:20200220T143000
DTEND;TZID=Europe/Rome;VALUE=DATE-TIME:20200220T173000
DTSTAMP;VALUE=DATE-TIME:20260426T062137Z
UID:6de4fffc706a430cb1bef83303a6a157@imprese.regione.emilia-romagna.it
CONTACT:Camera di commercio di Ferrara\, 0532 783804\, marchi.brevetti@fe.
 camcom.it
CREATED;VALUE=DATE-TIME:20200213T134845Z
DESCRIPTION:Workshop\, Ferrara\, 20 febbraio 2020
LAST-MODIFIED;VALUE=DATE-TIME:20200213T172449Z
LOCATION:Camera di commercio di Ferrara\, sala conferenze camerale\, largo
  Castello\, 10 - Ferrara
URL:https://imprese.regione.emilia-romagna.it/eventi/2020/misure-e-incenti
 vi-per-la-valorizzazione-di-brevetti-marchi-e-disegni
END:VEVENT
BEGIN:VTIMEZONE
TZID:Europe/Rome
X-LIC-LOCATION:Europe/Rome
BEGIN:STANDARD
DTSTART;VALUE=DATE-TIME:20191027T020000
TZNAME:CET
TZOFFSETFROM:+0200
TZOFFSETTO:+0100
END:STANDARD
END:VTIMEZONE
END:VCALENDAR
