BEGIN:VCALENDAR
VERSION:2.0
PRODID:-//Plone.org//NONSGML plone.app.event//EN
X-WR-TIMEZONE:Europe/Rome
BEGIN:VEVENT
SUMMARY:Le opportunità di sviluppo della filiera medicale post Covid
DTSTART;TZID=Europe/Rome;VALUE=DATE-TIME:20201022T173000
DTEND;TZID=Europe/Rome;VALUE=DATE-TIME:20201022T183000
DTSTAMP;VALUE=DATE-TIME:20260425T212820Z
UID:eb86ccff16a341b485f075d075d0c958@imprese.regione.emilia-romagna.it
CONTACT:Insieme per il lavoro\, info@insiemeperillavoro.it
CREATED;VALUE=DATE-TIME:20201020T082615Z
DESCRIPTION:Webinar\, 22 ottobre 2020
LAST-MODIFIED;VALUE=DATE-TIME:20201020T094129Z
LOCATION:online
URL:https://imprese.regione.emilia-romagna.it/eventi/2020/le-opportunita-d
 i-sviluppo-della-filiera-medicale-post-covid
END:VEVENT
BEGIN:VTIMEZONE
TZID:Europe/Rome
X-LIC-LOCATION:Europe/Rome
BEGIN:DAYLIGHT
DTSTART;VALUE=DATE-TIME:20200329T030000
TZNAME:CEST
TZOFFSETFROM:+0100
TZOFFSETTO:+0200
END:DAYLIGHT
END:VTIMEZONE
END:VCALENDAR
