BEGIN:VCALENDAR
VERSION:2.0
PRODID:-//Plone.org//NONSGML plone.app.event//EN
X-WR-TIMEZONE:Europe/Rome
BEGIN:VEVENT
SUMMARY:La rotta dell’innovazione per un piano di sviluppo industriale d
 elle pmi
DTSTART;TZID=Europe/Rome;VALUE=DATE-TIME:20200220T140000
DTEND;TZID=Europe/Rome;VALUE=DATE-TIME:20200220T183000
DTSTAMP;VALUE=DATE-TIME:20260425T184756Z
UID:0a6b1d2479dd4a00a0e1172142fa7f8d@imprese.regione.emilia-romagna.it
CREATED;VALUE=DATE-TIME:20200214T143237Z
DESCRIPTION:Incontro\, Bologna\, 20 febbraio 2020
LAST-MODIFIED;VALUE=DATE-TIME:20200214T155531Z
LOCATION:Museo del Patrimonio industriale\, ex Fornace Galotti\, via della
  Beverara\, 123 – Bologna
URL:https://imprese.regione.emilia-romagna.it/eventi/2020/la-rotta-innovaz
 ione-per-un-piano-di-sviluppo-industriale-delle-pmi
END:VEVENT
BEGIN:VTIMEZONE
TZID:Europe/Rome
X-LIC-LOCATION:Europe/Rome
BEGIN:STANDARD
DTSTART;VALUE=DATE-TIME:20191027T020000
TZNAME:CET
TZOFFSETFROM:+0200
TZOFFSETTO:+0100
END:STANDARD
END:VTIMEZONE
END:VCALENDAR
