BEGIN:VCALENDAR
VERSION:2.0
PRODID:-//Plone.org//NONSGML plone.app.event//EN
X-WR-TIMEZONE:Europe/Rome
BEGIN:VEVENT
SUMMARY:La città metropolitana di Bologna: una via per la green economy
DTSTART;TZID=Europe/Rome;VALUE=DATE-TIME:20201014T100000
DTEND;TZID=Europe/Rome;VALUE=DATE-TIME:20201014T130000
DTSTAMP;VALUE=DATE-TIME:20260425T182240Z
UID:b903cd0ecbcd4c049f5f9458b55589fb@imprese.regione.emilia-romagna.it
CONTACT:Osservatorio green economy - Art-ER\, osservatoriogreeneconomy@art
 -er.it
CREATED;VALUE=DATE-TIME:20201006T084404Z
DESCRIPTION:Incontro online\, 14 ottobre 2020
LAST-MODIFIED;VALUE=DATE-TIME:20201006T091430Z
LOCATION:online
URL:https://imprese.regione.emilia-romagna.it/eventi/2020/la-citta-metropo
 litana-di-bologna-una-via-per-la-green-economy
END:VEVENT
BEGIN:VTIMEZONE
TZID:Europe/Rome
X-LIC-LOCATION:Europe/Rome
BEGIN:DAYLIGHT
DTSTART;VALUE=DATE-TIME:20200329T030000
TZNAME:CEST
TZOFFSETFROM:+0100
TZOFFSETTO:+0200
END:DAYLIGHT
END:VTIMEZONE
END:VCALENDAR
