BEGIN:VCALENDAR
VERSION:2.0
PRODID:-//Plone.org//NONSGML plone.app.event//EN
X-WR-TIMEZONE:Europe/Rome
BEGIN:VEVENT
SUMMARY:Introduzione al Business Model Canvas Parte II: casi studio e pret
 otipizzazione
DTSTART;TZID=Europe/Rome;VALUE=DATE-TIME:20200421T150000
DTEND;TZID=Europe/Rome;VALUE=DATE-TIME:20200421T160000
DTSTAMP;VALUE=DATE-TIME:20260426T022523Z
UID:20ebe9bac41c4565bd3a09f1249e0985@imprese.regione.emilia-romagna.it
CREATED;VALUE=DATE-TIME:20200417T133145Z
DESCRIPTION:Webinar\, 21 aprile 2020
LAST-MODIFIED;VALUE=DATE-TIME:20200417T141809Z
LOCATION:on line
URL:https://imprese.regione.emilia-romagna.it/eventi/2020/introduzione-al-
 business-model-canvas-parte-ii-casi-studio-e-pretotipizzazione
END:VEVENT
BEGIN:VTIMEZONE
TZID:Europe/Rome
X-LIC-LOCATION:Europe/Rome
BEGIN:DAYLIGHT
DTSTART;VALUE=DATE-TIME:20200329T030000
TZNAME:CEST
TZOFFSETFROM:+0100
TZOFFSETTO:+0200
END:DAYLIGHT
END:VTIMEZONE
END:VCALENDAR
