BEGIN:VCALENDAR
VERSION:2.0
PRODID:-//Plone.org//NONSGML plone.app.event//EN
X-WR-TIMEZONE:Europe/Rome
BEGIN:VEVENT
SUMMARY:Internet Governance Forum Italia 2020
DTSTART;VALUE=DATE:20201007
DTEND;VALUE=DATE:20201010
DTSTAMP;VALUE=DATE-TIME:20260425T045844Z
UID:676620efca214e00976533b79fa56dde@imprese.regione.emilia-romagna.it
CREATED;VALUE=DATE-TIME:20201002T133235Z
DESCRIPTION:Webinar\, 7-9 ottobre 2020
LAST-MODIFIED;VALUE=DATE-TIME:20201002T135700Z
LOCATION:online
URL:https://imprese.regione.emilia-romagna.it/eventi/2020/internetgovernan
 ce-forum-italia-2020
END:VEVENT
END:VCALENDAR
