BEGIN:VCALENDAR
VERSION:2.0
PRODID:-//Plone.org//NONSGML plone.app.event//EN
X-WR-TIMEZONE:Europe/Rome
BEGIN:VEVENT
SUMMARY:Innovazione e formazione bussole per navigare in mare aperto
DTSTART;TZID=Europe/Rome;VALUE=DATE-TIME:20201202T140000
DTEND;TZID=Europe/Rome;VALUE=DATE-TIME:20201202T160000
DTSTAMP;VALUE=DATE-TIME:20260426T045246Z
UID:615ee99dda3d4f7fa9ad0e8338d1c63f@imprese.regione.emilia-romagna.it
CONTACT:Romagna Tech\, 0546 670311
CREATED;VALUE=DATE-TIME:20201130T092348Z
DESCRIPTION:Webinar\, 2 dicembre 2020
LAST-MODIFIED;VALUE=DATE-TIME:20201130T101227Z
LOCATION:online
URL:https://imprese.regione.emilia-romagna.it/eventi/2020/innovazione-e-fo
 rmazione-bussole-per-navigare-in-mare-aperto
END:VEVENT
BEGIN:VTIMEZONE
TZID:Europe/Rome
X-LIC-LOCATION:Europe/Rome
BEGIN:STANDARD
DTSTART;VALUE=DATE-TIME:20201025T020000
TZNAME:CET
TZOFFSETFROM:+0200
TZOFFSETTO:+0100
END:STANDARD
END:VTIMEZONE
END:VCALENDAR
