BEGIN:VCALENDAR
VERSION:2.0
PRODID:-//Plone.org//NONSGML plone.app.event//EN
X-WR-TIMEZONE:Europe/Rome
BEGIN:VEVENT
SUMMARY:Innovare con gli Enti di Ricerca: catalogo dei brevetti e opportun
 ità per le imprese
DTSTART;TZID=Europe/Rome;VALUE=DATE-TIME:20200428T160000
DTEND;TZID=Europe/Rome;VALUE=DATE-TIME:20200428T171500
DTSTAMP;VALUE=DATE-TIME:20260426T022522Z
UID:b641d271529944fcbd046f15ff7b9cee@imprese.regione.emilia-romagna.it
CONTACT:Pid - Camera di commercio di Reggio Emilia\, pid@re.camcom.it
CREATED;VALUE=DATE-TIME:20200417T133858Z
DESCRIPTION:Webinar\, 28 aprile 2020
LAST-MODIFIED;VALUE=DATE-TIME:20200417T141739Z
LOCATION:on line
URL:https://imprese.regione.emilia-romagna.it/eventi/2020/innovare-con-gli
 -enti-di-ricerca-catalogo-dei-brevetti-e-opportunita-per-le-imprese
END:VEVENT
BEGIN:VTIMEZONE
TZID:Europe/Rome
X-LIC-LOCATION:Europe/Rome
BEGIN:DAYLIGHT
DTSTART;VALUE=DATE-TIME:20200329T030000
TZNAME:CEST
TZOFFSETFROM:+0100
TZOFFSETTO:+0200
END:DAYLIGHT
END:VTIMEZONE
END:VCALENDAR
