BEGIN:VCALENDAR
VERSION:2.0
PRODID:-//Plone.org//NONSGML plone.app.event//EN
X-WR-TIMEZONE:Europe/Rome
BEGIN:VEVENT
SUMMARY:Indipendent Day - Giornata a favore del Lavoro Indipendente
DTSTART;TZID=Europe/Rome;VALUE=DATE-TIME:20200226T090000
DTEND;TZID=Europe/Rome;VALUE=DATE-TIME:20200226T200000
DTSTAMP;VALUE=DATE-TIME:20260426T022522Z
UID:381f869b923d462287fec975c747ebc9@imprese.regione.emilia-romagna.it
CONTACT:Offinine On/Off\, 0521 270841\, corsi@officineonoff.com
CREATED;VALUE=DATE-TIME:20200214T144919Z
DESCRIPTION:Evento\, Parma\, 26 febbraio 2020
LAST-MODIFIED;VALUE=DATE-TIME:20200304T091958Z
LOCATION:On/Off - Strada Naviglio Alto 4/1 - Parma
URL:https://imprese.regione.emilia-romagna.it/eventi/2020/indipendent-day-
 giornata-a-favore-del-lavoro-indipendente
END:VEVENT
BEGIN:VTIMEZONE
TZID:Europe/Rome
X-LIC-LOCATION:Europe/Rome
BEGIN:STANDARD
DTSTART;VALUE=DATE-TIME:20191027T020000
TZNAME:CET
TZOFFSETFROM:+0200
TZOFFSETTO:+0100
END:STANDARD
END:VTIMEZONE
END:VCALENDAR
