BEGIN:VCALENDAR
VERSION:2.0
PRODID:-//Plone.org//NONSGML plone.app.event//EN
X-WR-TIMEZONE:Europe/Rome
BEGIN:VEVENT
SUMMARY:Ict meets the arts e 1° tappa Digitalks
DTSTART;TZID=Europe/Rome;VALUE=DATE-TIME:20201015T173000
DTEND;TZID=Europe/Rome;VALUE=DATE-TIME:20201017T193000
DTSTAMP;VALUE=DATE-TIME:20260423T102543Z
UID:a4e2ca05d50e4d99b4ec1a3743b51deb@imprese.regione.emilia-romagna.it
CONTACT:Art-ER RegionArts\, regionarts@art-er.it
CREATED;VALUE=DATE-TIME:20201009T132731Z
DESCRIPTION:Eventi online\, 15-17 ottobre 2020
LAST-MODIFIED;VALUE=DATE-TIME:20201009T134356Z
LOCATION:online
URL:https://imprese.regione.emilia-romagna.it/eventi/2020/ict-meets-the-ar
 ts-e-1deg-tappa-digitalks
END:VEVENT
BEGIN:VTIMEZONE
TZID:Europe/Rome
X-LIC-LOCATION:Europe/Rome
BEGIN:DAYLIGHT
DTSTART;VALUE=DATE-TIME:20200329T030000
TZNAME:CEST
TZOFFSETFROM:+0100
TZOFFSETTO:+0200
END:DAYLIGHT
END:VTIMEZONE
END:VCALENDAR
