BEGIN:VCALENDAR
VERSION:2.0
PRODID:-//Plone.org//NONSGML plone.app.event//EN
X-WR-TIMEZONE:Europe/Rome
BEGIN:VEVENT
SUMMARY:Guidare l’impresa tra incertezza e complessità: la Leadership i
 n tempi di crisi
DTSTART;TZID=Europe/Rome;VALUE=DATE-TIME:20201210T160000
DTEND;TZID=Europe/Rome;VALUE=DATE-TIME:20201210T173000
DTSTAMP;VALUE=DATE-TIME:20260426T062205Z
UID:6eb6eba2774a487499d27815b600cbd6@imprese.regione.emilia-romagna.it
CONTACT:Ctc - Azienda speciale della Camera di commercio di Bologna\, 051 
 6093200\, seminari@bo.camcom.it
CREATED;VALUE=DATE-TIME:20201126T152327Z
DESCRIPTION:Seminario online\, 10 dicembre 2020
LAST-MODIFIED;VALUE=DATE-TIME:20201126T153913Z
LOCATION:online
URL:https://imprese.regione.emilia-romagna.it/eventi/2020/guidare-impresa-
 tra-incertezza-e-complessita-la-leadership-in-tempi-di-crisi
END:VEVENT
BEGIN:VTIMEZONE
TZID:Europe/Rome
X-LIC-LOCATION:Europe/Rome
BEGIN:STANDARD
DTSTART;VALUE=DATE-TIME:20201025T020000
TZNAME:CET
TZOFFSETFROM:+0200
TZOFFSETTO:+0100
END:STANDARD
END:VTIMEZONE
END:VCALENDAR
