BEGIN:VCALENDAR
VERSION:2.0
PRODID:-//Plone.org//NONSGML plone.app.event//EN
X-WR-TIMEZONE:Europe/Rome
BEGIN:VEVENT
SUMMARY:Fondo Patrimonio pmi
DTSTART;TZID=Europe/Rome;VALUE=DATE-TIME:20201119T100000
DTEND;TZID=Europe/Rome;VALUE=DATE-TIME:20201119T110000
DTSTAMP;VALUE=DATE-TIME:20260422T205551Z
UID:ab481ec98062455f9f43904c0e594f8a@imprese.regione.emilia-romagna.it
CONTACT:Invitalia\, 848 886886
CREATED;VALUE=DATE-TIME:20201116T105128Z
DESCRIPTION:Webinar\, 19 novembre 2020
LAST-MODIFIED;VALUE=DATE-TIME:20201116T125730Z
LOCATION:online
URL:https://imprese.regione.emilia-romagna.it/eventi/2020/fondo-patrimonio
 -pmi
END:VEVENT
BEGIN:VTIMEZONE
TZID:Europe/Rome
X-LIC-LOCATION:Europe/Rome
BEGIN:STANDARD
DTSTART;VALUE=DATE-TIME:20201025T020000
TZNAME:CET
TZOFFSETFROM:+0200
TZOFFSETTO:+0100
END:STANDARD
END:VTIMEZONE
END:VCALENDAR
