BEGIN:VCALENDAR
VERSION:2.0
PRODID:-//Plone.org//NONSGML plone.app.event//EN
X-WR-TIMEZONE:Europe/Rome
BEGIN:VEVENT
SUMMARY:Focus Paese: Corea Del Sud
DTSTART;TZID=Europe/Rome;VALUE=DATE-TIME:20201104T090000
DTEND;TZID=Europe/Rome;VALUE=DATE-TIME:20201104T123000
DTSTAMP;VALUE=DATE-TIME:20260419T185937Z
UID:0994bfeab25041118526f85c609d3cd4@imprese.regione.emilia-romagna.it
CREATED;VALUE=DATE-TIME:20201029T150004Z
DESCRIPTION:Webinar\, 4 novembre 2020
LAST-MODIFIED;VALUE=DATE-TIME:20201029T170103Z
LOCATION:online
URL:https://imprese.regione.emilia-romagna.it/eventi/2020/focus-paese-core
 a-del-sud
END:VEVENT
BEGIN:VTIMEZONE
TZID:Europe/Rome
X-LIC-LOCATION:Europe/Rome
BEGIN:STANDARD
DTSTART;VALUE=DATE-TIME:20201025T020000
TZNAME:CET
TZOFFSETFROM:+0200
TZOFFSETTO:+0100
END:STANDARD
END:VTIMEZONE
END:VCALENDAR
