BEGIN:VCALENDAR
VERSION:2.0
PRODID:-//Plone.org//NONSGML plone.app.event//EN
X-WR-TIMEZONE:Europe/Rome
BEGIN:VEVENT
SUMMARY:Fab-lab style: l’innovazione ai tempi del COVID-19
DTSTART;TZID=Europe/Rome;VALUE=DATE-TIME:20200612T110000
DTEND;TZID=Europe/Rome;VALUE=DATE-TIME:20200612T123000
DTSTAMP;VALUE=DATE-TIME:20260425T205729Z
UID:f2667918bcce41e9aea5e0da59bf9aa1@imprese.regione.emilia-romagna.it
CONTACT:PID - Camera di commercio della Romagna\, 0541 363731\, promozione
 @romagna.camcom.it
CREATED;VALUE=DATE-TIME:20200604T141523Z
DESCRIPTION:Webinar\, 12 giugno 2020
LAST-MODIFIED;VALUE=DATE-TIME:20200604T144549Z
LOCATION:on line
URL:https://imprese.regione.emilia-romagna.it/eventi/2020/fab-lab-style-in
 formazione-ai-tempi-covid-19
END:VEVENT
BEGIN:VTIMEZONE
TZID:Europe/Rome
X-LIC-LOCATION:Europe/Rome
BEGIN:DAYLIGHT
DTSTART;VALUE=DATE-TIME:20200329T030000
TZNAME:CEST
TZOFFSETFROM:+0100
TZOFFSETTO:+0200
END:DAYLIGHT
END:VTIMEZONE
END:VCALENDAR
