BEGIN:VCALENDAR
VERSION:2.0
PRODID:-//Plone.org//NONSGML plone.app.event//EN
X-WR-TIMEZONE:Europe/Rome
BEGIN:VEVENT
SUMMARY:L’evoluzione dell’ecosistema dell’innovazione nel settore ma
 nifatturiero
DTSTART;TZID=Europe/Rome;VALUE=DATE-TIME:20200127T093000
DTEND;TZID=Europe/Rome;VALUE=DATE-TIME:20200127T130000
DTSTAMP;VALUE=DATE-TIME:20260426T053725Z
UID:1fe90043d5ee476098932ecddbcaa5a5@imprese.regione.emilia-romagna.it
CREATED;VALUE=DATE-TIME:20200114T085224Z
DESCRIPTION:Incontro\, Milano\, 27 gennaio 2020
LAST-MODIFIED;VALUE=DATE-TIME:20200114T094936Z
LOCATION:Mip Politecnico di Milano - BL28\, aula Carassa e Dadda\, via Lam
 bruschini\, 4 - Milano
URL:https://imprese.regione.emilia-romagna.it/eventi/2020/evoluzione-ecosi
 stema-nnovazione-nel-settore-manifatturiero
END:VEVENT
BEGIN:VTIMEZONE
TZID:Europe/Rome
X-LIC-LOCATION:Europe/Rome
BEGIN:STANDARD
DTSTART;VALUE=DATE-TIME:20191027T020000
TZNAME:CET
TZOFFSETFROM:+0200
TZOFFSETTO:+0100
END:STANDARD
END:VTIMEZONE
END:VCALENDAR
