BEGIN:VCALENDAR
VERSION:2.0
PRODID:-//Plone.org//NONSGML plone.app.event//EN
X-WR-TIMEZONE:Europe/Rome
BEGIN:VEVENT
SUMMARY:Evento finale di Modena Airckathon
DTSTART;TZID=Europe/Rome;VALUE=DATE-TIME:20200924T180000
DTEND;TZID=Europe/Rome;VALUE=DATE-TIME:20200924T193000
DTSTAMP;VALUE=DATE-TIME:20260423T090033Z
UID:89e5cf7a2cbc4899a4dfbfd5bd12d157@imprese.regione.emilia-romagna.it
CONTACT:Area S3 - Modena\, AreaS3_MO@art-er.it
CREATED;VALUE=DATE-TIME:20200921T073452Z
DESCRIPTION:Evento\, online\, 24 settembre 2020
LAST-MODIFIED;VALUE=DATE-TIME:20200921T085948Z
LOCATION:online
URL:https://imprese.regione.emilia-romagna.it/eventi/2020/evento-finale-di
 -modena-airckathon
END:VEVENT
BEGIN:VTIMEZONE
TZID:Europe/Rome
X-LIC-LOCATION:Europe/Rome
BEGIN:DAYLIGHT
DTSTART;VALUE=DATE-TIME:20200329T030000
TZNAME:CEST
TZOFFSETFROM:+0100
TZOFFSETTO:+0200
END:DAYLIGHT
END:VTIMEZONE
END:VCALENDAR
