BEGIN:VCALENDAR
VERSION:2.0
PRODID:-//Plone.org//NONSGML plone.app.event//EN
X-WR-TIMEZONE:Europe/Rome
BEGIN:VEVENT
SUMMARY:Evento e incontri B2B gratuiti sulla sostituzione delle sostanze c
 himiche
DTSTART;TZID=Europe/Rome;VALUE=DATE-TIME:20200306T090000
DTEND;TZID=Europe/Rome;VALUE=DATE-TIME:20200306T170000
DTSTAMP;VALUE=DATE-TIME:20260426T022523Z
UID:0641358476c242ca9a981ae4c86250fa@imprese.regione.emilia-romagna.it
CONTACT:Valentina Patano - Unioncamere Emilia-Romagna\, 051 6377034\, vale
 ntina.patano@rer.camcom.it
CREATED;VALUE=DATE-TIME:20200304T084011Z
DESCRIPTION:Incontro\, 6 marzo\, Bruxelles
LAST-MODIFIED;VALUE=DATE-TIME:20200304T104729Z
LOCATION:Chaussée de la Hulpe 166 Terhulpsesteenweg 1170 Brussels - Belgi
 um
URL:https://imprese.regione.emilia-romagna.it/eventi/2020/evento-e-incontr
 i-b2b-gratuiti-sulla-sostituzione-delle-sostanze-chimiche
END:VEVENT
BEGIN:VTIMEZONE
TZID:Europe/Rome
X-LIC-LOCATION:Europe/Rome
BEGIN:STANDARD
DTSTART;VALUE=DATE-TIME:20191027T020000
TZNAME:CET
TZOFFSETFROM:+0200
TZOFFSETTO:+0100
END:STANDARD
END:VTIMEZONE
END:VCALENDAR
