BEGIN:VCALENDAR
VERSION:2.0
PRODID:-//Plone.org//NONSGML plone.app.event//EN
X-WR-TIMEZONE:Europe/Rome
BEGIN:VEVENT
SUMMARY:Diventa una SmartFactory in 3 passi
DTSTART;TZID=Europe/Rome;VALUE=DATE-TIME:20200513T160000
DTEND;TZID=Europe/Rome;VALUE=DATE-TIME:20200513T170000
DTSTAMP;VALUE=DATE-TIME:20260424T055853Z
UID:e2fcd60e433a443f854815ecb8122abf@imprese.regione.emilia-romagna.it
CONTACT:Punto Impresa Digitale - Pid Reggio Emilia\, pid@re.camcom.it
CREATED;VALUE=DATE-TIME:20200512T075755Z
DESCRIPTION:Webinar\, 13 maggio 2020
LAST-MODIFIED;VALUE=DATE-TIME:20200512T083922Z
LOCATION:on line
URL:https://imprese.regione.emilia-romagna.it/eventi/2020/diventa-una-smar
 tfactory-in-3-passi
END:VEVENT
BEGIN:VTIMEZONE
TZID:Europe/Rome
X-LIC-LOCATION:Europe/Rome
BEGIN:DAYLIGHT
DTSTART;VALUE=DATE-TIME:20200329T030000
TZNAME:CEST
TZOFFSETFROM:+0100
TZOFFSETTO:+0200
END:DAYLIGHT
END:VTIMEZONE
END:VCALENDAR
