BEGIN:VCALENDAR
VERSION:2.0
PRODID:-//Plone.org//NONSGML plone.app.event//EN
X-WR-TIMEZONE:Europe/Rome
BEGIN:VEVENT
SUMMARY:Dal grant all’Ipo passando per il convertibile: prassi correnti 
 per finanziare una startup
DTSTART;TZID=Europe/Rome;VALUE=DATE-TIME:20200916T170000
DTEND;TZID=Europe/Rome;VALUE=DATE-TIME:20200916T180000
DTSTAMP;VALUE=DATE-TIME:20260422T020753Z
UID:5a5d9704c2b54e119403cfc7f8b42587@imprese.regione.emilia-romagna.it
CONTACT:EmiliaRomagnaStartUp\, info@emiliaromagnastartup.it
CREATED;VALUE=DATE-TIME:20200910T125540Z
DESCRIPTION:Webinar\, 16 settembre 2020
LAST-MODIFIED;VALUE=DATE-TIME:20200910T140651Z
LOCATION:online
URL:https://imprese.regione.emilia-romagna.it/eventi/2020/dal-grant-a-ipo-
 passando-per-il-convertibile
END:VEVENT
BEGIN:VTIMEZONE
TZID:Europe/Rome
X-LIC-LOCATION:Europe/Rome
BEGIN:DAYLIGHT
DTSTART;VALUE=DATE-TIME:20200329T030000
TZNAME:CEST
TZOFFSETFROM:+0100
TZOFFSETTO:+0200
END:DAYLIGHT
END:VTIMEZONE
END:VCALENDAR
