BEGIN:VCALENDAR
VERSION:2.0
PRODID:-//Plone.org//NONSGML plone.app.event//EN
X-WR-TIMEZONE:Europe/Rome
BEGIN:VEVENT
SUMMARY:Contrattualistica commerciale con l'estero
DTSTART;TZID=Europe/Rome;VALUE=DATE-TIME:20200623T140000
DTEND;TZID=Europe/Rome;VALUE=DATE-TIME:20200623T160000
DTSTAMP;VALUE=DATE-TIME:20260420T182718Z
UID:f430ec5c29194e1fbbb3f48342c5238b@imprese.regione.emilia-romagna.it
CONTACT:Ufficio Contributi e Internazionalizzazione Cciaa di Reggio Emilia
 \, 0522 796511\, promozione@re.camcom.it
CREATED;VALUE=DATE-TIME:20200618T090103Z
DESCRIPTION:Webinar\, 23 giugno 2020
LAST-MODIFIED;VALUE=DATE-TIME:20200618T093733Z
LOCATION:online
URL:https://imprese.regione.emilia-romagna.it/eventi/2020/contrattualistic
 a-commerciale-con-estero
END:VEVENT
BEGIN:VTIMEZONE
TZID:Europe/Rome
X-LIC-LOCATION:Europe/Rome
BEGIN:DAYLIGHT
DTSTART;VALUE=DATE-TIME:20200329T030000
TZNAME:CEST
TZOFFSETFROM:+0100
TZOFFSETTO:+0200
END:DAYLIGHT
END:VTIMEZONE
END:VCALENDAR
