BEGIN:VCALENDAR
VERSION:2.0
PRODID:-//Plone.org//NONSGML plone.app.event//EN
X-WR-TIMEZONE:Europe/Rome
BEGIN:VEVENT
SUMMARY:Consegna della merce ed Incoterms
DTSTART;TZID=Europe/Rome;VALUE=DATE-TIME:20200915T140000
DTEND;TZID=Europe/Rome;VALUE=DATE-TIME:20200915T160000
DTSTAMP;VALUE=DATE-TIME:20260422T094753Z
UID:225630a37bfe412295db3bdcc581bdba@imprese.regione.emilia-romagna.it
CONTACT:Ufficio Contributi e Internazionalizzazione Cciaa di Reggio Emilia
 \, 0522 796511\, promozione@re.camcom.it
CREATED;VALUE=DATE-TIME:20200910T124936Z
DESCRIPTION:Webinar\, 15 settembre 2020
LAST-MODIFIED;VALUE=DATE-TIME:20200910T140651Z
URL:https://imprese.regione.emilia-romagna.it/eventi/2020/consegna-della-m
 erce-ed-incoterms
END:VEVENT
BEGIN:VTIMEZONE
TZID:Europe/Rome
X-LIC-LOCATION:Europe/Rome
BEGIN:DAYLIGHT
DTSTART;VALUE=DATE-TIME:20200329T030000
TZNAME:CEST
TZOFFSETFROM:+0100
TZOFFSETTO:+0200
END:DAYLIGHT
END:VTIMEZONE
END:VCALENDAR
