BEGIN:VCALENDAR
VERSION:2.0
PRODID:-//Plone.org//NONSGML plone.app.event//EN
X-WR-TIMEZONE:Europe/Rome
BEGIN:VEVENT
SUMMARY:Business speed date al femminile
DTSTART;TZID=Europe/Rome;VALUE=DATE-TIME:20200213T160000
DTSTAMP;VALUE=DATE-TIME:20260425T205729Z
UID:ec8c3283b2a647248e6108fd5ff934a1@imprese.regione.emilia-romagna.it
CREATED;VALUE=DATE-TIME:20200210T083628Z
DESCRIPTION:Incontro\, Piacenza\, 13 febbraio 2020
LAST-MODIFIED;VALUE=DATE-TIME:20200210T085539Z
LOCATION:Camera di commercio di Piacenza\, piazza Cavalli\, 35 - Piacenza
URL:https://imprese.regione.emilia-romagna.it/eventi/2020/business-speed-d
 ate-al-femminile
END:VEVENT
BEGIN:VTIMEZONE
TZID:Europe/Rome
X-LIC-LOCATION:Europe/Rome
BEGIN:STANDARD
DTSTART;VALUE=DATE-TIME:20191027T020000
TZNAME:CET
TZOFFSETFROM:+0200
TZOFFSETTO:+0100
END:STANDARD
END:VTIMEZONE
END:VCALENDAR
