BEGIN:VCALENDAR
VERSION:2.0
PRODID:-//Plone.org//NONSGML plone.app.event//EN
X-WR-TIMEZONE:Europe/Rome
BEGIN:VEVENT
SUMMARY:Biometano: metano verde dall’economia circolare
DTSTART;TZID=Europe/Rome;VALUE=DATE-TIME:20200312T110000
DTEND;TZID=Europe/Rome;VALUE=DATE-TIME:20200312T120000
DTSTAMP;VALUE=DATE-TIME:20260426T062138Z
UID:daf6c429edfb4c3692be17266ad33e0b@imprese.regione.emilia-romagna.it
CREATED;VALUE=DATE-TIME:20200224T105312Z
DESCRIPTION:Incontro\, Ravenna\, 12 marzo 2020
LAST-MODIFIED;VALUE=DATE-TIME:20200304T091300Z
LOCATION:Sala conferenza /spazio Arena Pala De André\, Viale Europa\, 1 
 – Ravenna
URL:https://imprese.regione.emilia-romagna.it/eventi/2020/biometano-metano
 -verde-economia-circolare
END:VEVENT
BEGIN:VTIMEZONE
TZID:Europe/Rome
X-LIC-LOCATION:Europe/Rome
BEGIN:STANDARD
DTSTART;VALUE=DATE-TIME:20191027T020000
TZNAME:CET
TZOFFSETFROM:+0200
TZOFFSETTO:+0100
END:STANDARD
END:VTIMEZONE
END:VCALENDAR
