BEGIN:VCALENDAR
VERSION:2.0
PRODID:-//Plone.org//NONSGML plone.app.event//EN
X-WR-TIMEZONE:Europe/Rome
BEGIN:VEVENT
SUMMARY:Bandi europei\, agevolazioni e incentivi per lo sviluppo e l’inn
 ovazione
DTSTART;TZID=Europe/Rome;VALUE=DATE-TIME:20200319T180000
DTEND;TZID=Europe/Rome;VALUE=DATE-TIME:20200319T200000
DTSTAMP;VALUE=DATE-TIME:20260425T184751Z
UID:ec6c2bf7f2d8460ea98155d57047fd5d@imprese.regione.emilia-romagna.it
CREATED;VALUE=DATE-TIME:20200317T153456Z
DESCRIPTION:Webinar\, 19 marzo 2020
LAST-MODIFIED;VALUE=DATE-TIME:20200317T172100Z
LOCATION:on line
URL:https://imprese.regione.emilia-romagna.it/eventi/2020/bandi-europei-ag
 evolazioni-incentivi-sviluppo-innovazione
END:VEVENT
BEGIN:VTIMEZONE
TZID:Europe/Rome
X-LIC-LOCATION:Europe/Rome
BEGIN:STANDARD
DTSTART;VALUE=DATE-TIME:20191027T020000
TZNAME:CET
TZOFFSETFROM:+0200
TZOFFSETTO:+0100
END:STANDARD
END:VTIMEZONE
END:VCALENDAR
