BEGIN:VCALENDAR
VERSION:2.0
PRODID:-//Plone.org//NONSGML plone.app.event//EN
X-WR-TIMEZONE:Europe/Rome
BEGIN:VEVENT
SUMMARY:Banca dati F-Gas
DTSTART;TZID=Europe/Rome;VALUE=DATE-TIME:20200429T093000
DTEND;TZID=Europe/Rome;VALUE=DATE-TIME:20200429T133000
DTSTAMP;VALUE=DATE-TIME:20260425T184019Z
UID:8bc45b59382d4d6592f462dce70f6335@imprese.regione.emilia-romagna.it
CONTACT:Canera di commercio di Parma\, 0521 210246\, promozione@pr.camcom.
 it
CREATED;VALUE=DATE-TIME:20200417T134448Z
DESCRIPTION:Webinar\, 29 aprile 2020
LAST-MODIFIED;VALUE=DATE-TIME:20200417T141711Z
LOCATION:on line
URL:https://imprese.regione.emilia-romagna.it/eventi/2020/banca-dati-f-gas
END:VEVENT
BEGIN:VTIMEZONE
TZID:Europe/Rome
X-LIC-LOCATION:Europe/Rome
BEGIN:DAYLIGHT
DTSTART;VALUE=DATE-TIME:20200329T030000
TZNAME:CEST
TZOFFSETFROM:+0100
TZOFFSETTO:+0200
END:DAYLIGHT
END:VTIMEZONE
END:VCALENDAR
