BEGIN:VCALENDAR
VERSION:2.0
PRODID:-//Plone.org//NONSGML plone.app.event//EN
X-WR-TIMEZONE:Europe/Rome
BEGIN:VEVENT
SUMMARY:Ambienti immersivi: distanti\, ma vicini
DTSTART;TZID=Europe/Rome;VALUE=DATE-TIME:20200626T110000
DTEND;TZID=Europe/Rome;VALUE=DATE-TIME:20200626T123000
DTSTAMP;VALUE=DATE-TIME:20260423T003500Z
UID:76e97155ae0d4b2d986924dd1657d2a6@imprese.regione.emilia-romagna.it
CONTACT:Punto Impresa Digitale - Cciaa della Romagna\, promozione@romagna.
 camcom.it
CREATED;VALUE=DATE-TIME:20200618T085317Z
DESCRIPTION:Webinar\, 26 giugno 2020
LAST-MODIFIED;VALUE=DATE-TIME:20200618T093732Z
LOCATION:online
URL:https://imprese.regione.emilia-romagna.it/eventi/2020/ambienti-immersi
 vi-distanti-ma-vicini
END:VEVENT
BEGIN:VTIMEZONE
TZID:Europe/Rome
X-LIC-LOCATION:Europe/Rome
BEGIN:DAYLIGHT
DTSTART;VALUE=DATE-TIME:20200329T030000
TZNAME:CEST
TZOFFSETFROM:+0100
TZOFFSETTO:+0200
END:DAYLIGHT
END:VTIMEZONE
END:VCALENDAR
