BEGIN:VCALENDAR
VERSION:2.0
PRODID:-//Plone.org//NONSGML plone.app.event//EN
X-WR-TIMEZONE:Europe/Rome
BEGIN:VEVENT
SUMMARY:All digital week 2020
DTSTART;VALUE=DATE:20200323
DTEND;VALUE=DATE:20200330
DTSTAMP;VALUE=DATE-TIME:20260422T111316Z
UID:11c6a1d532424c94bac766326f3a8916@imprese.regione.emilia-romagna.it
CONTACT:All Digital Week - Informazioni\, info@all-digital.org
CREATED;VALUE=DATE-TIME:20200310T081611Z
DESCRIPTION:Iniziativa\, varie sedi in Europa\, 23-29 marzo 2020
LAST-MODIFIED;VALUE=DATE-TIME:20200310T092839Z
LOCATION:Varie sedi in Europa
URL:https://imprese.regione.emilia-romagna.it/eventi/2020/all-digital-week
 -2020
END:VEVENT
END:VCALENDAR
