BEGIN:VCALENDAR
VERSION:2.0
PRODID:-//Plone.org//NONSGML plone.app.event//EN
X-WR-TIMEZONE:Europe/Rome
BEGIN:VEVENT
SUMMARY:L’Abc della finanza di impatto
DTSTART;TZID=Europe/Rome;VALUE=DATE-TIME:20201210T163000
DTEND;TZID=Europe/Rome;VALUE=DATE-TIME:20201210T173000
DTSTAMP;VALUE=DATE-TIME:20260423T031939Z
UID:f1239e717f29437ca689450a464ba150@imprese.regione.emilia-romagna.it
CONTACT:Romagna Tech\, 0546 670311
CREATED;VALUE=DATE-TIME:20201201T082848Z
DESCRIPTION:Webinar\, 10 dicembre 2020
LAST-MODIFIED;VALUE=DATE-TIME:20201201T105613Z
LOCATION:online
URL:https://imprese.regione.emilia-romagna.it/eventi/2020/a-b-c-della-fina
 nza-di-impatto
END:VEVENT
BEGIN:VTIMEZONE
TZID:Europe/Rome
X-LIC-LOCATION:Europe/Rome
BEGIN:STANDARD
DTSTART;VALUE=DATE-TIME:20201025T020000
TZNAME:CET
TZOFFSETFROM:+0200
TZOFFSETTO:+0100
END:STANDARD
END:VTIMEZONE
END:VCALENDAR
