BEGIN:VCALENDAR
VERSION:2.0
PRODID:-//Plone.org//NONSGML plone.app.event//EN
X-WR-TIMEZONE:Europe/Rome
BEGIN:VEVENT
SUMMARY:Wearable: moda\, sport\, salute e benessere
DTSTART;TZID=Europe/Rome;VALUE=DATE-TIME:20190617T100000
DTEND;TZID=Europe/Rome;VALUE=DATE-TIME:20190617T123000
DTSTAMP;VALUE=DATE-TIME:20260425T223916Z
UID:f5cb433c113b469e803e8fc6d8ce62f4@imprese.regione.emilia-romagna.it
CONTACT:Ctc Azienda speciale della Camera di commercio di Bologna\, 051 60
 93200\, seminari@bo.camcom.it
CREATED;VALUE=DATE-TIME:20190614T102712Z
DESCRIPTION:Seminario\, Bologna\, 17 giugno 2019
LAST-MODIFIED;VALUE=DATE-TIME:20190614T140937Z
LOCATION:Tecnopolo di Bologna\, Area della ricerca Cnr di Bologna\, via Pi
 ero Gobetti\, 101
URL:https://imprese.regione.emilia-romagna.it/eventi/2019/wearable-tech-tu
 tto-quello-che-ce-da-sapere
END:VEVENT
BEGIN:VTIMEZONE
TZID:Europe/Rome
X-LIC-LOCATION:Europe/Rome
BEGIN:DAYLIGHT
DTSTART;VALUE=DATE-TIME:20190331T030000
TZNAME:CEST
TZOFFSETFROM:+0100
TZOFFSETTO:+0200
END:DAYLIGHT
END:VTIMEZONE
END:VCALENDAR
