BEGIN:VCALENDAR
VERSION:2.0
PRODID:-//Plone.org//NONSGML plone.app.event//EN
X-WR-TIMEZONE:Europe/Rome
BEGIN:VEVENT
SUMMARY:UnConference - Emerging Technologies for EmiliaRomagna
DTSTART;TZID=Europe/Rome;VALUE=DATE-TIME:20190524T140000
DTEND;TZID=Europe/Rome;VALUE=DATE-TIME:20190524T200000
DTSTAMP;VALUE=DATE-TIME:20260423T094016Z
UID:c0756c32d0b14682a42e536b66f943de@imprese.regione.emilia-romagna.it
CREATED;VALUE=DATE-TIME:20190516T133121Z
DESCRIPTION:Evento\, Bologna\, 24 maggio 2019
LAST-MODIFIED;VALUE=DATE-TIME:20190516T140259Z
LOCATION:Working Capital\, via Guglielmo Oberdan\, 22 - Bologna
URL:https://imprese.regione.emilia-romagna.it/eventi/2019/unconference-eme
 rging-technologies-for-emiliaromagna
END:VEVENT
BEGIN:VTIMEZONE
TZID:Europe/Rome
X-LIC-LOCATION:Europe/Rome
BEGIN:DAYLIGHT
DTSTART;VALUE=DATE-TIME:20190331T030000
TZNAME:CEST
TZOFFSETFROM:+0100
TZOFFSETTO:+0200
END:DAYLIGHT
END:VTIMEZONE
END:VCALENDAR
