BEGIN:VCALENDAR
VERSION:2.0
PRODID:-//Plone.org//NONSGML plone.app.event//EN
X-WR-TIMEZONE:Europe/Rome
BEGIN:VEVENT
SUMMARY:Una buona idea. Da una idea al lavoro
DTSTART;TZID=Europe/Rome;VALUE=DATE-TIME:20190523T170000
DTEND;TZID=Europe/Rome;VALUE=DATE-TIME:20190523T190000
DTSTAMP;VALUE=DATE-TIME:20260425T205729Z
UID:d85b12b0314347afac94869474517207@imprese.regione.emilia-romagna.it
CONTACT:Spazio2 - Piacenza\, 0523 498751\, spazio2piacenza@gmail.com
CREATED;VALUE=DATE-TIME:20190520T115401Z
DESCRIPTION:Incontro\, Piacenza\, 23 maggio 2019
LAST-MODIFIED;VALUE=DATE-TIME:20190520T142145Z
LOCATION:SPAZIO2\, via XXIV Maggio\, 51 - Piacenza
URL:https://imprese.regione.emilia-romagna.it/eventi/2019/una-buona-idea-d
 a-una-idea-al-lavoro
END:VEVENT
BEGIN:VTIMEZONE
TZID:Europe/Rome
X-LIC-LOCATION:Europe/Rome
BEGIN:DAYLIGHT
DTSTART;VALUE=DATE-TIME:20190331T030000
TZNAME:CEST
TZOFFSETFROM:+0100
TZOFFSETTO:+0200
END:DAYLIGHT
END:VTIMEZONE
END:VCALENDAR
