BEGIN:VCALENDAR
VERSION:2.0
PRODID:-//Plone.org//NONSGML plone.app.event//EN
X-WR-TIMEZONE:Europe/Rome
BEGIN:VEVENT
SUMMARY:Strumenti\, servizi e finanziamenti per agevolare l’innovazione 
 nelle pmi
DTSTART;TZID=Europe/Rome;VALUE=DATE-TIME:20191218T093000
DTEND;TZID=Europe/Rome;VALUE=DATE-TIME:20191218T123000
DTSTAMP;VALUE=DATE-TIME:20260425T212819Z
UID:ed4a7db848fc4bd19e8c32e077fa1773@imprese.regione.emilia-romagna.it
CONTACT:Unioncamere Emilia-Romagna\, Simpler – Enterprise Europe Network
 \, 051 6377045\, simpler@rer.camcom.it
CREATED;VALUE=DATE-TIME:20191209T095544Z
DESCRIPTION:Seminario\, Bologna\, 18 dicembre 2019
LAST-MODIFIED;VALUE=DATE-TIME:20191209T113009Z
LOCATION:Sede di Unioncamere Emilia-Romagna\, secondo piano\, viale Aldo M
 oro\, 62 – Bologna
URL:https://imprese.regione.emilia-romagna.it/eventi/2019/strumenti-serviz
 i-finanziamenti-per-agevolare-innovazione-nelle-pmi
END:VEVENT
BEGIN:VTIMEZONE
TZID:Europe/Rome
X-LIC-LOCATION:Europe/Rome
BEGIN:STANDARD
DTSTART;VALUE=DATE-TIME:20191027T020000
TZNAME:CET
TZOFFSETFROM:+0200
TZOFFSETTO:+0100
END:STANDARD
END:VTIMEZONE
END:VCALENDAR
