BEGIN:VCALENDAR
VERSION:2.0
PRODID:-//Plone.org//NONSGML plone.app.event//EN
X-WR-TIMEZONE:Europe/Rome
BEGIN:VEVENT
SUMMARY:Strategie di intervento per il transito attraverso il Brennero
DTSTART;TZID=Europe/Rome;VALUE=DATE-TIME:20190619T093000
DTEND;TZID=Europe/Rome;VALUE=DATE-TIME:20190619T130000
DTSTAMP;VALUE=DATE-TIME:20260425T205728Z
UID:a0a634262ccb49abbc34abc818a0c845@imprese.regione.emilia-romagna.it
CONTACT:Segreteria organizzativa - Elisabetta Martello\, 02 36582880\, inf
 o@uniontrasporti.it
CREATED;VALUE=DATE-TIME:20190611T084359Z
DESCRIPTION:Convegno\, Roma\, 19 giugno 2019
LAST-MODIFIED;VALUE=DATE-TIME:20190611T104213Z
LOCATION:Sala Longhi di Unioncamere\, piazza Sallustio\, 21 - Roma
URL:https://imprese.regione.emilia-romagna.it/eventi/2019/strategie-di-int
 ervento-per-il-transito-attraverso-il-brennero
END:VEVENT
BEGIN:VTIMEZONE
TZID:Europe/Rome
X-LIC-LOCATION:Europe/Rome
BEGIN:DAYLIGHT
DTSTART;VALUE=DATE-TIME:20190331T030000
TZNAME:CEST
TZOFFSETFROM:+0100
TZOFFSETTO:+0200
END:DAYLIGHT
END:VTIMEZONE
END:VCALENDAR
