BEGIN:VCALENDAR
VERSION:2.0
PRODID:-//Plone.org//NONSGML plone.app.event//EN
X-WR-TIMEZONE:Europe/Rome
BEGIN:VEVENT
SUMMARY:Riduzione Irap in montagna - incontro con le imprese nel Riminese
DTSTART;TZID=Europe/Rome;VALUE=DATE-TIME:20191014T180000
DTEND;TZID=Europe/Rome;VALUE=DATE-TIME:20191014T200000
DTSTAMP;VALUE=DATE-TIME:20260425T212820Z
UID:21145695a2e541fe8480e116dfb4a042@imprese.regione.emilia-romagna.it
CREATED;VALUE=DATE-TIME:20190926T074949Z
DESCRIPTION:Incontro\, Nova Feltria (RN)\, 14 ottobre 2019
LAST-MODIFIED;VALUE=DATE-TIME:20190926T161855Z
LOCATION:Teatro sociale\, via Mazzini\, 69 - Nova Feltria (RN)
URL:https://imprese.regione.emilia-romagna.it/eventi/2019/riduzione-irap-i
 n-montagna-incontro-con-le-imprese-nel-riminese
END:VEVENT
BEGIN:VTIMEZONE
TZID:Europe/Rome
X-LIC-LOCATION:Europe/Rome
BEGIN:DAYLIGHT
DTSTART;VALUE=DATE-TIME:20190331T030000
TZNAME:CEST
TZOFFSETFROM:+0100
TZOFFSETTO:+0200
END:DAYLIGHT
END:VTIMEZONE
END:VCALENDAR
