BEGIN:VCALENDAR
VERSION:2.0
PRODID:-//Plone.org//NONSGML plone.app.event//EN
X-WR-TIMEZONE:Europe/Rome
BEGIN:VEVENT
SUMMARY:Riduzione Irap in montagna - incontro con le imprese nel Reggiano
DTSTART;TZID=Europe/Rome;VALUE=DATE-TIME:20191017T180000
DTEND;TZID=Europe/Rome;VALUE=DATE-TIME:20191017T200000
DTSTAMP;VALUE=DATE-TIME:20260425T212819Z
UID:c710bb766472446e9894b2c5a1fb712b@imprese.regione.emilia-romagna.it
CREATED;VALUE=DATE-TIME:20190926T080242Z
DESCRIPTION:Incontro\, Castelnovo ne' Monti (RE)\, 17 ottobre 2019
LAST-MODIFIED;VALUE=DATE-TIME:20190926T161740Z
LOCATION:Oratorio Centro Don Bosco\, via alla Pieve\, 5 - Castelnovo ne' M
 onti (RE)
URL:https://imprese.regione.emilia-romagna.it/eventi/2019/riduzione-irap-i
 n-montagna-incontro-con-le-imprese-nel-reggiano
END:VEVENT
BEGIN:VTIMEZONE
TZID:Europe/Rome
X-LIC-LOCATION:Europe/Rome
BEGIN:DAYLIGHT
DTSTART;VALUE=DATE-TIME:20190331T030000
TZNAME:CEST
TZOFFSETFROM:+0100
TZOFFSETTO:+0200
END:DAYLIGHT
END:VTIMEZONE
END:VCALENDAR
