BEGIN:VCALENDAR
VERSION:2.0
PRODID:-//Plone.org//NONSGML plone.app.event//EN
X-WR-TIMEZONE:Europe/Rome
BEGIN:VEVENT
SUMMARY:Riduzione Irap in montagna - incontro con le imprese nel Bolognese
DTSTART;TZID=Europe/Rome;VALUE=DATE-TIME:20191016T180000
DTEND;TZID=Europe/Rome;VALUE=DATE-TIME:20191016T200000
DTSTAMP;VALUE=DATE-TIME:20260425T174824Z
UID:d2727f5ceda8498c845b4714e88bc552@imprese.regione.emilia-romagna.it
CREATED;VALUE=DATE-TIME:20190926T075601Z
DESCRIPTION:Incontro\, Castiglione dei Pepoli (BO)\, 16 ottobre 2019
LAST-MODIFIED;VALUE=DATE-TIME:20190926T161813Z
LOCATION:Saa consiliare del Comune di Castiglione dei Pepoli\, piazza Marc
 oni\, 1 - Castiglione dei Pepoli (BO)
URL:https://imprese.regione.emilia-romagna.it/eventi/2019/riduzione-irap-i
 n-montagna-incontro-con-le-imprese-nel-bolognese
END:VEVENT
BEGIN:VTIMEZONE
TZID:Europe/Rome
X-LIC-LOCATION:Europe/Rome
BEGIN:DAYLIGHT
DTSTART;VALUE=DATE-TIME:20190331T030000
TZNAME:CEST
TZOFFSETFROM:+0100
TZOFFSETTO:+0200
END:DAYLIGHT
END:VTIMEZONE
END:VCALENDAR
