BEGIN:VCALENDAR
VERSION:2.0
PRODID:-//Plone.org//NONSGML plone.app.event//EN
X-WR-TIMEZONE:Europe/Rome
BEGIN:VEVENT
SUMMARY:Presentazione del bando Por Fesr 2014-2020 Servizi innovativi per 
 le pmi
DTSTART;TZID=Europe/Rome;VALUE=DATE-TIME:20191031T100000
DTEND;TZID=Europe/Rome;VALUE=DATE-TIME:20191031T123000
DTSTAMP;VALUE=DATE-TIME:20260426T024900Z
UID:e84da3b39f464cdaba4fecddfa37d6d6@imprese.regione.emilia-romagna.it
CREATED;VALUE=DATE-TIME:20191016T103759Z
DESCRIPTION:Incontro\, Bologna\, 31 ottobre 2019
LAST-MODIFIED;VALUE=DATE-TIME:20220909T080849Z
LOCATION:Aula magna della Regione Emilia-Romagna\, viale Aldo Moro\, 30 - 
 Bologna
URL:https://imprese.regione.emilia-romagna.it/eventi/2019/presentazione-de
 l-bando-por-fesr-2014-2020-servizi-innovativi-per-le-pmi
END:VEVENT
BEGIN:VTIMEZONE
TZID:Europe/Rome
X-LIC-LOCATION:Europe/Rome
BEGIN:STANDARD
DTSTART;VALUE=DATE-TIME:20191027T020000
TZNAME:CET
TZOFFSETFROM:+0200
TZOFFSETTO:+0100
END:STANDARD
END:VTIMEZONE
END:VCALENDAR
