BEGIN:VCALENDAR
VERSION:2.0
PRODID:-//Plone.org//NONSGML plone.app.event//EN
X-WR-TIMEZONE:Europe/Rome
BEGIN:VEVENT
SUMMARY:Porta la tua attività su Google
DTSTART;TZID=Europe/Rome;VALUE=DATE-TIME:20190723T093000
DTEND;TZID=Europe/Rome;VALUE=DATE-TIME:20190723T133000
DTSTAMP;VALUE=DATE-TIME:20260425T205732Z
UID:1f9e7a34338c43aeb260917fc7b6e359@imprese.regione.emilia-romagna.it
CONTACT:Urp - Camera di commercio di Ferrara\, 0532 783802\, urp@fe.camcom
 .it
CREATED;VALUE=DATE-TIME:20190715T150306Z
DESCRIPTION:Seminario\, Ferrara\, 23 luglio 2019
LAST-MODIFIED;VALUE=DATE-TIME:20190715T213630Z
LOCATION:Camera di commercio di Ferrara\, sala conferenze\, largo Castello
 \, 10 - Ferrara
URL:https://imprese.regione.emilia-romagna.it/eventi/2019/porta-la-tua-att
 ivita-su-google
END:VEVENT
BEGIN:VTIMEZONE
TZID:Europe/Rome
X-LIC-LOCATION:Europe/Rome
BEGIN:DAYLIGHT
DTSTART;VALUE=DATE-TIME:20190331T030000
TZNAME:CEST
TZOFFSETFROM:+0100
TZOFFSETTO:+0200
END:DAYLIGHT
END:VTIMEZONE
END:VCALENDAR
