BEGIN:VCALENDAR
VERSION:2.0
PRODID:-//Plone.org//NONSGML plone.app.event//EN
X-WR-TIMEZONE:Europe/Rome
BEGIN:VEVENT
SUMMARY:Nuove Idee Nuove Imprese 2019 - La Finale
DTSTART;TZID=Europe/Rome;VALUE=DATE-TIME:20191209T180000
DTEND;TZID=Europe/Rome;VALUE=DATE-TIME:20191209T200000
DTSTAMP;VALUE=DATE-TIME:20260425T061111Z
UID:0b92acba26624358a138dfd168a5d2bd@imprese.regione.emilia-romagna.it
CREATED;VALUE=DATE-TIME:20191206T164132Z
DESCRIPTION:Incontro\, Forlì\, 9 dicembre 2019
LAST-MODIFIED;VALUE=DATE-TIME:20191206T193843Z
LOCATION:Camera di commercio della Romagna\, corso della Repubblica\, 5 - 
 Forlì
URL:https://imprese.regione.emilia-romagna.it/eventi/2019/nuove-idee-nuove
 -imprese-2019-la-finale
END:VEVENT
BEGIN:VTIMEZONE
TZID:Europe/Rome
X-LIC-LOCATION:Europe/Rome
BEGIN:STANDARD
DTSTART;VALUE=DATE-TIME:20191027T020000
TZNAME:CET
TZOFFSETFROM:+0200
TZOFFSETTO:+0100
END:STANDARD
END:VTIMEZONE
END:VCALENDAR
