BEGIN:VCALENDAR
VERSION:2.0
PRODID:-//Plone.org//NONSGML plone.app.event//EN
X-WR-TIMEZONE:Europe/Rome
BEGIN:VEVENT
SUMMARY:Mercato svizzero: opportunità per le imprese italiane
DTSTART;TZID=Europe/Rome;VALUE=DATE-TIME:20190930T093000
DTEND;TZID=Europe/Rome;VALUE=DATE-TIME:20190930T160000
DTSTAMP;VALUE=DATE-TIME:20260426T062159Z
UID:6ddefdff8f4c4f9c9cdccd4d4ef0d798@imprese.regione.emilia-romagna.it
CONTACT:Ufficio Contributi e Internazionalizzazione Cciaa di Reggio Emilia
 \, 0522 796511\, promozione@re.camcom.it
CREATED;VALUE=DATE-TIME:20190913T133841Z
DESCRIPTION:Incontro\, Reggio Emilia\, 30 settembre 2019
LAST-MODIFIED;VALUE=DATE-TIME:20190913T141826Z
LOCATION:Camera di commercio di Reggio Emilia\, sala Giunta\, piazza della
  Vittoria\, 3 - Reggio Emilia
URL:https://imprese.regione.emilia-romagna.it/eventi/2019/mercato-svizzero
 -opportunita-per-le-imprese-italiane
END:VEVENT
BEGIN:VTIMEZONE
TZID:Europe/Rome
X-LIC-LOCATION:Europe/Rome
BEGIN:DAYLIGHT
DTSTART;VALUE=DATE-TIME:20190331T030000
TZNAME:CEST
TZOFFSETFROM:+0100
TZOFFSETTO:+0200
END:DAYLIGHT
END:VTIMEZONE
END:VCALENDAR
