BEGIN:VCALENDAR
VERSION:2.0
PRODID:-//Plone.org//NONSGML plone.app.event//EN
X-WR-TIMEZONE:Europe/Rome
BEGIN:VEVENT
SUMMARY:Let's talk about the future of food
DTSTART;TZID=Europe/Rome;VALUE=DATE-TIME:20190708T183000
DTEND;TZID=Europe/Rome;VALUE=DATE-TIME:20190708T210000
DTSTAMP;VALUE=DATE-TIME:20260425T205728Z
UID:34fefa7eaab747a28ba9e5787832081e@imprese.regione.emilia-romagna.it
CREATED;VALUE=DATE-TIME:20190703T101009Z
DESCRIPTION:Evento\, Cesena\, 8 luglio 2019
LAST-MODIFIED;VALUE=DATE-TIME:20190703T142456Z
LOCATION:Cesenalab\, via Martiri della Libertà 14/c - Cesena
URL:https://imprese.regione.emilia-romagna.it/eventi/2019/let-s-talk-about
 -the-future-of-food
END:VEVENT
BEGIN:VTIMEZONE
TZID:Europe/Rome
X-LIC-LOCATION:Europe/Rome
BEGIN:DAYLIGHT
DTSTART;VALUE=DATE-TIME:20190331T030000
TZNAME:CEST
TZOFFSETFROM:+0100
TZOFFSETTO:+0200
END:DAYLIGHT
END:VTIMEZONE
END:VCALENDAR
