BEGIN:VCALENDAR
VERSION:2.0
PRODID:-//Plone.org//NONSGML plone.app.event//EN
X-WR-TIMEZONE:Europe/Rome
BEGIN:VEVENT
SUMMARY:La responsabilità sociale in rete
DTSTART;TZID=Europe/Rome;VALUE=DATE-TIME:20190131T093000
DTEND;TZID=Europe/Rome;VALUE=DATE-TIME:20190131T123000
DTSTAMP;VALUE=DATE-TIME:20260425T222552Z
UID:92098133f3a74220ba15730035d8f826@imprese.regione.emilia-romagna.it
CONTACT:Urp Camera di commercio di Ferrara\, 0532 783802\, urp@fe.camcom.i
 t
CREATED;VALUE=DATE-TIME:20190115T173700Z
DESCRIPTION:Convegno\, Ravenna\, 31 gennaio 2019
LAST-MODIFIED;VALUE=DATE-TIME:20190115T185100Z
LOCATION:Classic\, Museo della città e del territorio\, via Classense\, 2
 9 - Ravenna
URL:https://imprese.regione.emilia-romagna.it/eventi/2019/la-responsabilit
 a-sociale-in-rete
END:VEVENT
BEGIN:VTIMEZONE
TZID:Europe/Rome
X-LIC-LOCATION:Europe/Rome
BEGIN:STANDARD
DTSTART;VALUE=DATE-TIME:20181028T020000
TZNAME:CET
TZOFFSETFROM:+0200
TZOFFSETTO:+0100
END:STANDARD
END:VTIMEZONE
END:VCALENDAR
