BEGIN:VCALENDAR
VERSION:2.0
PRODID:-//Plone.org//NONSGML plone.app.event//EN
X-WR-TIMEZONE:Europe/Rome
BEGIN:VEVENT
SUMMARY:International B2B meetings - Emo 2019
DTSTART;TZID=Europe/Rome;VALUE=DATE-TIME:20190916T100000
DTEND;TZID=Europe/Rome;VALUE=DATE-TIME:20190920T160000
DTSTAMP;VALUE=DATE-TIME:20260423T071319Z
UID:eca8e55856354989b281369fcdc1ad00@imprese.regione.emilia-romagna.it
CONTACT:Elisa Protti - Cna Emilia-Romagna\, 051 2133870
CREATED;VALUE=DATE-TIME:20190802T104826Z
DESCRIPTION:Incontri\, Hannover (Germania)\, 16-20 settembre 2019
LAST-MODIFIED;VALUE=DATE-TIME:20190805T102853Z
LOCATION:Hannover Messe\, Matchmaking area nell’IC di fronte al Padiglio
 ne 17 - Germania
URL:https://imprese.regione.emilia-romagna.it/eventi/2019/international-b2
 b-meetings-emo-2019
END:VEVENT
BEGIN:VTIMEZONE
TZID:Europe/Rome
X-LIC-LOCATION:Europe/Rome
BEGIN:DAYLIGHT
DTSTART;VALUE=DATE-TIME:20190331T030000
TZNAME:CEST
TZOFFSETFROM:+0100
TZOFFSETTO:+0200
END:DAYLIGHT
END:VTIMEZONE
END:VCALENDAR
