BEGIN:VCALENDAR
VERSION:2.0
PRODID:-//Plone.org//NONSGML plone.app.event//EN
X-WR-TIMEZONE:Europe/Rome
BEGIN:VEVENT
SUMMARY:Fatturazione elettronica in Europa e in Italia
DTSTART;VALUE=DATE:20191022
DTEND;VALUE=DATE:20191023
DTSTAMP;VALUE=DATE-TIME:20260426T045250Z
UID:92d8359bdf2d43019a8fb4a1bd725fb1@imprese.regione.emilia-romagna.it
CONTACT:Camera di commercio della Romagna - Segreteria\, segreteria@romagn
 a.camcom.it
CREATED;VALUE=DATE-TIME:20191015T153534Z
DESCRIPTION:Workshop\, Forlì e Rimini\, 22 ottobre 2019
LAST-MODIFIED;VALUE=DATE-TIME:20191015T155337Z
URL:https://imprese.regione.emilia-romagna.it/eventi/2019/fatturazione-ele
 ttronica-in-europa-e-in-italia
END:VEVENT
END:VCALENDAR
