BEGIN:VCALENDAR
VERSION:2.0
PRODID:-//Plone.org//NONSGML plone.app.event//EN
X-WR-TIMEZONE:Europe/Rome
BEGIN:VEVENT
SUMMARY:Fai partire il tuo business con Aliexpress
DTSTART;TZID=Europe/Rome;VALUE=DATE-TIME:20190625T100000
DTEND;TZID=Europe/Rome;VALUE=DATE-TIME:20190625T170000
DTSTAMP;VALUE=DATE-TIME:20260425T205728Z
UID:8448bff083f5407daccbd5381c462a42@imprese.regione.emilia-romagna.it
CONTACT:Aliexpress\, 02 7002534\, aliexpress@hicomm.it
CREATED;VALUE=DATE-TIME:20190620T101721Z
DESCRIPTION:Incontro\, Bologna\, 25 giugno 2019
LAST-MODIFIED;VALUE=DATE-TIME:20190620T143120Z
LOCATION:Fondazione Fashion Research Italy\, via del Fonditore\, 12 - Bolo
 gna
URL:https://imprese.regione.emilia-romagna.it/eventi/2019/fai-partire-il-t
 uo-business-con-aliexpress
END:VEVENT
BEGIN:VTIMEZONE
TZID:Europe/Rome
X-LIC-LOCATION:Europe/Rome
BEGIN:DAYLIGHT
DTSTART;VALUE=DATE-TIME:20190331T030000
TZNAME:CEST
TZOFFSETFROM:+0100
TZOFFSETTO:+0200
END:DAYLIGHT
END:VTIMEZONE
END:VCALENDAR
