BEGIN:VCALENDAR
VERSION:2.0
PRODID:-//Plone.org//NONSGML plone.app.event//EN
X-WR-TIMEZONE:Europe/Rome
BEGIN:VEVENT
SUMMARY:Emilia-Romagna dell'innovazione nel settore Ict\, big data e scien
 ze della vita - Landing in Texas
DTSTART;TZID=Europe/Rome;VALUE=DATE-TIME:20190325T160000
DTEND;TZID=Europe/Rome;VALUE=DATE-TIME:20190325T180000
DTSTAMP;VALUE=DATE-TIME:20260426T045254Z
UID:249eca7972a04e7c8dfa031502a1e7e0@imprese.regione.emilia-romagna.it
CONTACT:Alessia Paolicchi\, a.paolicchi@iacctexas.com
CREATED;VALUE=DATE-TIME:20190221T121800Z
DESCRIPTION:Incontro\, Reggio Emilia\, 25 marzo 2019
LAST-MODIFIED;VALUE=DATE-TIME:20190221T141700Z
LOCATION:Tecnopolo di Reggio Emilia\, viale Europa\, 1 
URL:https://imprese.regione.emilia-romagna.it/eventi/2019/emilia-romagna-d
 ella-innovazione-landing-in-texas-reggio-emilia
END:VEVENT
BEGIN:VTIMEZONE
TZID:Europe/Rome
X-LIC-LOCATION:Europe/Rome
BEGIN:STANDARD
DTSTART;VALUE=DATE-TIME:20181028T020000
TZNAME:CET
TZOFFSETFROM:+0200
TZOFFSETTO:+0100
END:STANDARD
END:VTIMEZONE
END:VCALENDAR
