BEGIN:VCALENDAR
VERSION:2.0
PRODID:-//Plone.org//NONSGML plone.app.event//EN
X-WR-TIMEZONE:Europe/Rome
BEGIN:VEVENT
SUMMARY:Bando regionale in ricerca e sviluppo per le imprese in area sisma
DTSTART;TZID=Europe/Rome;VALUE=DATE-TIME:20190613T173000
DTEND;TZID=Europe/Rome;VALUE=DATE-TIME:20190613T183000
DTSTAMP;VALUE=DATE-TIME:20260426T062807Z
UID:4d86a8fe227f4713baef9f28ba9ec666@imprese.regione.emilia-romagna.it
CONTACT:Marcello Marchesini - Carpi Fashion System\, 059 649357\, marchesi
 nimarcello8@gmail.com
CREATED;VALUE=DATE-TIME:20190611T085530Z
DESCRIPTION:Presentazione\, Carpi (MO)\, 13 giugno 2019
LAST-MODIFIED;VALUE=DATE-TIME:20190611T104451Z
LOCATION:Sede di ForModena\, via Marx 131/C - Carpi (MO)
URL:https://imprese.regione.emilia-romagna.it/eventi/2019/bando-regionale-
 in-ricerca-e-sviluppo-per-le-imprese-in-area-sisma
END:VEVENT
BEGIN:VTIMEZONE
TZID:Europe/Rome
X-LIC-LOCATION:Europe/Rome
BEGIN:DAYLIGHT
DTSTART;VALUE=DATE-TIME:20190331T030000
TZNAME:CEST
TZOFFSETFROM:+0100
TZOFFSETTO:+0200
END:DAYLIGHT
END:VTIMEZONE
END:VCALENDAR
