BEGIN:VCALENDAR
VERSION:2.0
PRODID:-//Plone.org//NONSGML plone.app.event//EN
X-WR-TIMEZONE:Europe/Rome
BEGIN:VEVENT
SUMMARY:Bando Investimenti Produttivi 2018: incontro con i beneficiari sec
 onda call
DTSTART;TZID=Europe/Rome;VALUE=DATE-TIME:20191030T143000
DTEND;TZID=Europe/Rome;VALUE=DATE-TIME:20191030T163000
DTSTAMP;VALUE=DATE-TIME:20260425T175342Z
UID:ca2f73997feb4332bfd570e8f7c01ba3@imprese.regione.emilia-romagna.it
CREATED;VALUE=DATE-TIME:20191028T102953Z
DESCRIPTION:Incontro\, Bologna\, 30 ottobre 2019
LAST-MODIFIED;VALUE=DATE-TIME:20220909T080720Z
LOCATION:Sede della Regione Emilia-Romagna\, Aula Magna\, viale Aldo Moro\
 , 30 - Bologna
URL:https://imprese.regione.emilia-romagna.it/eventi/2019/bando-investimen
 ti-produttivi-2018-incontro-con-i-beneficiari-seconda-call
END:VEVENT
BEGIN:VTIMEZONE
TZID:Europe/Rome
X-LIC-LOCATION:Europe/Rome
BEGIN:STANDARD
DTSTART;VALUE=DATE-TIME:20191027T020000
TZNAME:CET
TZOFFSETFROM:+0200
TZOFFSETTO:+0100
END:STANDARD
END:VTIMEZONE
END:VCALENDAR
