BEGIN:VCALENDAR
VERSION:2.0
PRODID:-//Plone.org//NONSGML plone.app.event//EN
X-WR-TIMEZONE:Europe/Rome
BEGIN:VEVENT
SUMMARY:Arte\, creatività e tecnologia per la competitività delle impres
 e
DTSTART;TZID=Europe/Rome;VALUE=DATE-TIME:20191128T093000
DTEND;TZID=Europe/Rome;VALUE=DATE-TIME:20191128T130000
DTSTAMP;VALUE=DATE-TIME:20260425T224730Z
UID:e045cb5784a84642b4ee67c9e49c9f49@imprese.regione.emilia-romagna.it
CONTACT:Regionarts Art-ER\, regionarts@aster.it
CREATED;VALUE=DATE-TIME:20191127T095909Z
DESCRIPTION:Incontro\, Bologna\, 28 novembre 2019
LAST-MODIFIED;VALUE=DATE-TIME:20191127T114448Z
LOCATION:Biblioteca del CNR\, sala 216\, Area della ricerca di Bologna\, v
 ia Gobetti\, 101 - Bologna
URL:https://imprese.regione.emilia-romagna.it/eventi/2019/arte-creativita-
 e-tecnologia-per-la-competitivita-delle-imprese
END:VEVENT
BEGIN:VTIMEZONE
TZID:Europe/Rome
X-LIC-LOCATION:Europe/Rome
BEGIN:STANDARD
DTSTART;VALUE=DATE-TIME:20191027T020000
TZNAME:CET
TZOFFSETFROM:+0200
TZOFFSETTO:+0100
END:STANDARD
END:VTIMEZONE
END:VCALENDAR
